BEGIN:VCALENDAR
VERSION:2.0
PRODID:-//Lindegrachtconcerten 2026//NONSGML kigkonsult.se iCalcreator 2.41.92//
CALSCALE:GREGORIAN
METHOD:PUBLISH
UID:36373666-6361-4264-a538-313139313232
X-WR-CALNAME:iCagenda
X-WR-CALDESC:Event Management Extension for Joomla!
X-WR-RELCALID:3E26604A-50F4-4449-8B3E-E4F4932D05B5
X-WR-TIMEZONE:Europe/Amsterdam
BEGIN:VTIMEZONE
TZID:Europe/Amsterdam
TZUNTIL:20210328T010000Z
BEGIN:STANDARD
TZNAME:CET
DTSTART:20181028T030000
TZOFFSETFROM:+0200
TZOFFSETTO:+0100
RDATE:20191027T030000
RDATE:20201025T030000
END:STANDARD
BEGIN:DAYLIGHT
TZNAME:CEST
DTSTART:20190331T020000
TZOFFSETFROM:+0100
TZOFFSETTO:+0200
RDATE:20200329T020000
END:DAYLIGHT
END:VTIMEZONE
BEGIN:VEVENT
UID:38326538-6433-4839-b132-393435636334
DTSTAMP:20260421T082828Z
CATEGORIES:2019
CLASS:PUBLIC
DESCRIPTION;ALTREP="CID:<FFFF__=0ABBE548DFE235B58f9e8a93d@coffeebean.com>":
 'De hele wereld op een gracht’\n \nOuverture\nStadsbeiaardier Christiaan W
 inter bespeelt vanaf 20.00 uur het carillon van de Grote Sint Laurenskerk.
  Hij blikt vooruit op het concertprogramma met:\n\nUit: ’Lyrische Stukken’
  – Edvard Grieg (1843-1907)- Norsk (Op. 12\, nr. 6)- Illusion (Op. 57\, nr
 . 3)- Folkevise (Op. 38\, nr. 2)- I Balladetone (Op. 65\, nr. 5)- Bestemor
 s Menuett (Op. 68\, nr. 2)\nTwee liederen (Op. 13) – Clara Schumann (1819-
 1896)- Ich stand in dunklen Träumen- Sie liebten sich Beide\nLiebesfreud –
  Fritz Kreisler (1875-1962)\n\n \nCONCERTPROGRAMMA\n \nDuo Niek Baar en Be
 n Kim\n\nNiek Baar (viool)\nBen Kim (piano)\n\nEdvard Grieg (1843-1907)\n
 \nVioolsonate no. 2 \n\nClara Schumann (1819-1896)\n\nDrie Romances\n\nFri
 tz Kreisler (1875-1962)\n\nPraeludium en Adagio\n\n \nPAUZE \n \nEnsemble 
 Caravan\n\nMadhu Lalbahadoersing (zang)\nShishani Vranckx (zang)\nWasim Ar
 slan (zang)\nJawa Manla (oed)\nEmmy Storms (viool)\nJeroen Batterink (perc
 ussie)\nJulian Schneemann (piano/composities)\n\nOp de avond zelf wordt be
 paald wat er gespeeld gaat worden. Caravan verbindt het Oosten en het West
 en\, waarbij klassieke kamermuziek\, jazz en folk ineen vloeien. Samen met
  de Syrische ud speler Jawa Manla\, violiste Emmy Storms en percussionist 
 Jeroen Batterink onderneemt bandleider Julian Schneemann een grensoverschr
 ijdende trip\, waarbij dromerige Arabische melodieën en opzwepende Ierse f
 ok hand in hand gaan met betoverende kamermuziek en avontuurlijke jazz. Da
 t alles maakt deel uit van één het hetzelfde verhaal: de kracht van (muzik
 ale) diversiteit. \n 
DTSTART:20190716T183000Z
DTEND:20190716T183000Z
GEO:00;0
LOCATION:Lindegracht\, Alkmaar
ORGANIZER:
SEQUENCE:1
SUMMARY:Niek Baar & Ben Kim / Caravan
TRANSP:OPAQUE
URL:https://lindegrachtconcerten.nl/terugblik/1-ben-kim-piano-niek-baar-vio
 ol
END:VEVENT
END:VCALENDAR
